BEGIN:VCALENDAR
VERSION:2.0
PRODID:-//Relato Integrado Brasil - ECPv6.2.8.2//NONSGML v1.0//EN
CALSCALE:GREGORIAN
METHOD:PUBLISH
X-ORIGINAL-URL:https://relatointegradobrasil.com.br
X-WR-CALDESC:Eventos para Relato Integrado Brasil
REFRESH-INTERVAL;VALUE=DURATION:PT1H
X-Robots-Tag:noindex
X-PUBLISHED-TTL:PT1H
BEGIN:VTIMEZONE
TZID:America/Sao_Paulo
BEGIN:STANDARD
TZOFFSETFROM:-0300
TZOFFSETTO:-0300
TZNAME:-03
DTSTART:20240101T000000
END:STANDARD
END:VTIMEZONE
BEGIN:VEVENT
DTSTART;TZID=America/Sao_Paulo:20241118T100000
DTEND;TZID=America/Sao_Paulo:20241118T123000
DTSTAMP:20260425T164726
CREATED:20240319T210334Z
LAST-MODIFIED:20241106T002110Z
UID:1909-1731924000-1731933000@relatointegradobrasil.com.br
SUMMARY:Reunião 4T 2024
DESCRIPTION:
URL:https://relatointegradobrasil.com.br/event/reuniao-4t-2024/
END:VEVENT
END:VCALENDAR