BEGIN:VCALENDAR
VERSION:2.0
PRODID:-//Relato Integrado Brasil - ECPv6.2.8.2//NONSGML v1.0//EN
CALSCALE:GREGORIAN
METHOD:PUBLISH
X-ORIGINAL-URL:https://relatointegradobrasil.com.br
X-WR-CALDESC:Eventos para Relato Integrado Brasil
REFRESH-INTERVAL;VALUE=DURATION:PT1H
X-Robots-Tag:noindex
X-PUBLISHED-TTL:PT1H
BEGIN:VTIMEZONE
TZID:America/Sao_Paulo
BEGIN:STANDARD
TZOFFSETFROM:-0300
TZOFFSETTO:-0300
TZNAME:-03
DTSTART:20250101T000000
END:STANDARD
END:VTIMEZONE
BEGIN:VEVENT
DTSTART;TZID=America/Sao_Paulo:20251203T150000
DTEND;TZID=America/Sao_Paulo:20251203T170000
DTSTAMP:20260423T000124
CREATED:20251126T232321Z
LAST-MODIFIED:20251126T232338Z
UID:2174-1764774000-1764781200@relatointegradobrasil.com.br
SUMMARY:Reunião da Comissão em 03/12/2025 das 15:00 às 17:00
DESCRIPTION:
URL:https://relatointegradobrasil.com.br/event/reuniao-da-comissao-em-03-12-2025-das-1500-as-1700/
END:VEVENT
END:VCALENDAR