BEGIN:VCALENDAR
VERSION:2.0
PRODID:-//Relato Integrado Brasil - ECPv6.2.8.2//NONSGML v1.0//EN
CALSCALE:GREGORIAN
METHOD:PUBLISH
X-WR-CALNAME:Relato Integrado Brasil
X-ORIGINAL-URL:https://relatointegradobrasil.com.br
X-WR-CALDESC:Eventos para Relato Integrado Brasil
REFRESH-INTERVAL;VALUE=DURATION:PT1H
X-Robots-Tag:noindex
X-PUBLISHED-TTL:PT1H
BEGIN:VTIMEZONE
TZID:America/Sao_Paulo
BEGIN:STANDARD
TZOFFSETFROM:-0200
TZOFFSETTO:-0300
TZNAME:-03
DTSTART:20190217T020000
END:STANDARD
END:VTIMEZONE
BEGIN:VEVENT
DTSTART;TZID=America/Sao_Paulo:20191126T080000
DTEND;TZID=America/Sao_Paulo:20191128T170000
DTSTAMP:20260424T220902
CREATED:20190920T052006Z
LAST-MODIFIED:20191009T161540Z
UID:886-1574755200-1574960400@relatointegradobrasil.com.br
SUMMARY:Treinamento aprovado pelo IIRC
DESCRIPTION:Treinamento aprovado pelo IIRC de dois dias sobre estratégias\, conceitos e gerenciamento operacional de relatórios integrados
URL:https://relatointegradobrasil.com.br/event/treinamento-aprovado-pelo-iirc/
LOCATION:BSD – São Paulo\, Rua José Maria Lisboa\, 860 - 7º andar\, Brasil
CATEGORIES:Curso
ATTACH;FMTTYPE=image/jpeg:https://relatointegradobrasil.com.br/wp-content/uploads/2015/09/notícia-49.jpg
END:VEVENT
END:VCALENDAR